BEGIN:VCALENDAR
VERSION:2.0
PRODID:-//MJC Reignier-Ésery - ECPv6.15.18//NONSGML v1.0//EN
CALSCALE:GREGORIAN
METHOD:PUBLISH
X-ORIGINAL-URL:https://www.mjcreignier.net
X-WR-CALDESC:Évènements pour MJC Reignier-Ésery
REFRESH-INTERVAL;VALUE=DURATION:PT1H
X-Robots-Tag:noindex
X-PUBLISHED-TTL:PT1H
BEGIN:VTIMEZONE
TZID:UTC
BEGIN:STANDARD
TZOFFSETFROM:+0000
TZOFFSETTO:+0000
TZNAME:UTC
DTSTART:20230101T000000
END:STANDARD
END:VTIMEZONE
BEGIN:VEVENT
DTSTART;TZID=UTC:20260308T170000
DTEND;TZID=UTC:20260308T183000
DTSTAMP:20260421T113629
CREATED:20260206T174853Z
LAST-MODIFIED:20260206T174853Z
UID:10004519-1772989200-1772994600@www.mjcreignier.net
SUMMARY:Théâtre "Psy(cause)"
DESCRIPTION:THÉÂTRE « Psy(cause)« \ndimanche 8 mars 2026 à 17h\n\n\nLa Compagnie Didascalex présente :  \n« PSY(CAUSE) » de Josiane Pinson \n« Elle » est psy. \nSymbole d’équilibre. Seule. Mère. En analyse. \nA cause de sa mère ? \nDe son âge ? \nOu de ses patientes ? \nLes névroses\, c’est contagieux ? \nUn symbole d’équilibre qui dérape\, ça fait quoi ? \nJosiane Pinson déshabille la psyché féminine pour ausculter ses fragilités. \nAigre douceur et humour noir foncé. \n\nAvec Céline Bouchet. \nMise en scène : \nAlexandre Zanotti. \n\nTarifs : 10 € adhérent / 12 € non-adhérent
URL:https://www.mjcreignier.net/event/psy-cause-theatre-didascalex/
CATEGORIES:Culture,Page Culture,Soirées Théâtre,Spectacle vivant
ATTACH;FMTTYPE=image/jpeg:https://www.mjcreignier.net/wp-content/uploads/2026/02/Theatre-PsycauseMars26-DIAPO.jpg
END:VEVENT
BEGIN:VEVENT
DTSTART;TZID=UTC:20251123T170000
DTEND;TZID=UTC:20251123T183000
DTSTAMP:20260421T113629
CREATED:20250206T182207Z
LAST-MODIFIED:20251015T133945Z
UID:10002323-1763917200-1763922600@www.mjcreignier.net
SUMMARY:Théâtre "Vous avez tort ! Monsieur Pasteur"
DESCRIPTION:THÉÂTRE « Vous avez tort ! Monsieur Pasteur« \ndimanche 23 novembre 2025 à 17h\n\n\nLa Compagnie Am’en scène présente « Vous avez tort ! Monsieur Pasteur » \n\nde Jacques Geoffroy \nLouis Pasteur fête son 70ème anniversaire ! Il revient sur sa vie et ses découvertes. Quels souvenirs ! \nÀ travers cette comédie scientifique et ses personnages hauts en couleur\, embarquez pour un savoureux voyage au cœur de la vie et des découvertes de Louis Pasteur. \n \n 
URL:https://www.mjcreignier.net/event/theatre-vous-avez-tort-monsieur-pasteur/
CATEGORIES:Culture,Page Culture,Soirées Théâtre,Spectacle vivant
ATTACH;FMTTYPE=image/jpeg:https://www.mjcreignier.net/wp-content/uploads/2025/02/TheatreFevrier25-DIAPO.jpg
END:VEVENT
BEGIN:VEVENT
DTSTART;TZID=UTC:20250209T170000
DTEND;TZID=UTC:20250209T183000
DTSTAMP:20260421T113629
CREATED:20241018T082002Z
LAST-MODIFIED:20250129T193424Z
UID:10002249-1739120400-1739125800@www.mjcreignier.net
SUMMARY:ANNULÉ : Théâtre "Variations énigmatiques"
DESCRIPTION:Information du 29/01 : la représentation de théâtre présentée ci-dessous est annulée pour des raisons indépendantes de notre volonté. \nNous vous prions de bien vouloir nous excuser. \n——————- \nANNULÉ\nTHÉÂTRE « Variations énigmatiques »\nLa Compagnie Éphémère présente « Variations énigmatiques »\nde Éric-Emmanuel Schmitt \nmise en scène de la Compagnie Éphémère \nAvec Paul Duband et Aimé Delajoud
URL:https://www.mjcreignier.net/event/theatre/
CATEGORIES:Culture,Page Culture,Soirées Théâtre,Spectacle vivant
ATTACH;FMTTYPE=image/jpeg:https://www.mjcreignier.net/wp-content/uploads/2025/01/TheatreFevrier25-DIAPOannule.jpg
END:VEVENT
BEGIN:VEVENT
DTSTART;TZID=UTC:20240218T170000
DTEND;TZID=UTC:20240218T183000
DTSTAMP:20260421T113629
CREATED:20240130T134216Z
LAST-MODIFIED:20240130T134231Z
UID:10000300-1708275600-1708281000@www.mjcreignier.net
SUMMARY:Soirée Théâtre
DESCRIPTION:SOIRÉE THÉÂTRE\ndimanche 18 février 2024 à 17h\n\nLa Troupalex présente « 5ème étage » de Natacha Astuto\n\nLyon\, France\, 1943. Armande\, Claire\, Solange et Marthe sont des résistantes engagées\, courageuses et efficaces. Inconditionnelles de la liberté\, elles sont prêtes à tout pour sauver la France de l’occupant qui l’étouffe. De mission en mission\, elles finiront par mettre au point et exécuter la mission dont tous les Français ont dû rêver. \nAu-delà de ce chapitre sombre et douloureux de l’Histoire de la Seconde Guerre Mondiale\, c’est avant tout une belle histoire d’amitié entre ces quatre femmes aux caractères diamétralement opposés. \nAvec : Agnès GINGUENE\, Magali HORLAVILLE\, Nathalie ROUX & Valérie ROUX \nMise en scène : Alexandre ZANOTTI \n\nGrande salle. \nTarifs : 10€ adhérent / 12 € non-adhérent
URL:https://www.mjcreignier.net/event/soiree-theatre-troupalex/
LOCATION:MJC de Reignier-Ésery\, 416 rue des écoles\, Reignier-Ésery
CATEGORIES:Culture,Page Culture,Soirées Théâtre,Spectacle vivant
ATTACH;FMTTYPE=image/jpeg:https://www.mjcreignier.net/wp-content/uploads/2024/01/TheatreFevrier24-WEBdiapo.jpg
END:VEVENT
END:VCALENDAR